BEGIN:VCALENDAR
VERSION:2.0
PRODID:-//eventon.com NONSGML v1.0//EN
CALSCALE:GREGORIAN
METHOD:PUBLISH
BEGIN:VEVENT
UID:69e540b61b0ff
DTSTAMP:20260419T205310Z
DTSTART:20230909T130000Z
DTEND:20230909T180000Z
LOCATION:
SUMMARY:Stadtplanungsamt öffnet den Info-Container!
DESCRIPTION:Das Stadtplanungsamt öffnet regelmäßig den Info-Container sa
 mstags von 15:00 Uhr bis 20:00 Uhr. Foto: ©Daniel Altemeyer-Bartscher\nhtt
 ps://www.schlossufer-aschaffenburg.de/events/stadtplanungsamt-oeffnet-den-i
 nfo-container/var/ri-17.l-L1
URL:https://www.schlossufer-aschaffenburg.de/events/stadtplanungsamt-oeffnet-den-info-container/var/ri-17.l-L1
END:VEVENT
END:VCALENDAR