BEGIN:VCALENDAR
VERSION:2.0
PRODID:-//eventon.com NONSGML v1.0//EN
CALSCALE:GREGORIAN
METHOD:PUBLISH
BEGIN:VEVENT
UID:69e77403a4470
DTSTAMP:20260421T125635Z
DTSTART:20220723T150000Z
DTEND:20220723T153000Z
LOCATION:
SUMMARY:Filmmusik am Schlossufer
DESCRIPTION:Die OVA\,  Orchestervereinigung Aschaffenburg\,  ein Laien-Stre
 ichorchester\,  spielt beliebte Filmmusiken. Es werden Spenden für die Flu
 topfer im Ahrtal gesammelt. Foto: Frederik Kunz\nhttps://www.schlossufer-as
 chaffenburg.de/events/filmmusik-am-schlossufer/
URL:https://www.schlossufer-aschaffenburg.de/events/filmmusik-am-schlossufer/
END:VEVENT
END:VCALENDAR